{
 "currentVersion": 11.5,
 "serviceDescription": "Light/HelenaSubStation",
 "serviceItemId": "b28e624949ce4ddb91697dc930a13e30",
 "name": "Light/HelenaSubStation",
 "description": "",
 "extent": {
  "xmin": 1630856.4840134762,
  "ymin": 612902.3292469052,
  "xmax": 1631194.1640285293,
  "ymax": 613153.8386960207,
  "spatialReference": {
   "wkid": 102749,
   "latestWkid": 2286
  }
 },
 "initialExtent": {
  "xmin": 1630856.4840134762,
  "ymin": 612902.3292469052,
  "xmax": 1631194.1640285293,
  "ymax": 613153.8386960207,
  "spatialReference": {
   "wkid": 102749,
   "latestWkid": 2286
  }
 },
 "fullExtent": {
  "xmin": 1630856.4840134762,
  "ymin": 612902.3292469052,
  "xmax": 1631194.1640285293,
  "ymax": 613153.8386960207,
  "spatialReference": {
   "wkid": 102749,
   "latestWkid": 2286
  }
 },
 "sortableFields": "",
 "bandCount": 3,
 "pixelType": "U8",
 "minValues": [
  0,
  0,
  0
 ],
 "maxValues": [
  255,
  255,
  255
 ],
 "meanValues": [
  112.3031815000198,
  111.3271424609411,
  107.6416482873079
 ],
 "stdvValues": [
  47.873233129516166,
  46.88913956602173,
  48.45124951078449
 ],
 "serviceProperties": "Center<\/MosaicMethod>First<\/MosaicOperator>true<\/SortAscending><\/LockImageID><\/TileOrderField>0<\/TileOrderBase>0.000000<\/AvgImageSpacingX>0.000000<\/AvgImageSpacingY>0.0<\/ViewPointX>0.0<\/ViewPointY>0.0<\/ViewPointDefShiftX>0.0<\/ViewPointDefShiftY>None<\/CompressionMethod>75<\/CompressionQuality>0.010000<\/CompressionTolerance>Bilinear<\/SamplingMethod><\/ImageServiceProperties><\/ImageServer>",
 "allowedFields": "",
 "hasMultidimensions": false,
 "pixelSizeX": 0.3326896700030881,
 "pixelSizeY": 0.3371440336668749,
 "meanPixelSize": 0.10208286060502358,
 "datasetFormat": "SDR",
 "uncompressedSize": 2271570,
 "blockWidth": 128,
 "blockHeight": 128,
 "compressionType": "LZ77",
 "bandNames": [
  "Band_1",
  "Band_2",
  "Band_3"
 ],
 "allowCopy": true,
 "allowAnalysis": true,
 "itemAccess": false,
 "inspectionCapabilities": "",
 "minPixelSize": 0,
 "maxPixelSize": 0,
 "copyrightText": "",
 "serviceDataType": "esriImageServiceDataTypeRGB",
 "serviceSourceType": "esriImageServiceSourceTypeDataset",
 "objectIdField": "",
 "fields": [],
 "capabilities": "Image,Metadata,Mensuration",
 "defaultMosaicMethod": "Center",
 "allowedMosaicMethods": "",
 "sortField": "",
 "sortValue": null,
 "sortAscending": true,
 "mosaicOperator": "First",
 "defaultCompressionQuality": 75,
 "defaultResamplingMethod": "Bilinear",
 "maxImageHeight": 4100,
 "maxImageWidth": 15000,
 "allowRasterFunction": true,
 "rasterFunctionInfos": [
  {
   "name": "None",
   "description": "",
   "help": ""
  }
 ],
 "rasterTypeInfos": [
  {
   "name": "Raster Dataset",
   "description": "Supports all ArcGIS Raster Datasets",
   "help": ""
  }
 ],
 "mensurationCapabilities": "Basic",
 "hasHistograms": true,
 "hasColormap": false,
 "hasRasterAttributeTable": false,
 "minScale": 0,
 "maxScale": 0,
 "exportTilesAllowed": false,
 "supportsStatistics": false,
 "supportsAdvancedQueries": false,
 "editFieldsInfo": null,
 "ownershipBasedAccessControlForRasters": null,
 "allowComputeTiePoints": false,
 "useStandardizedQueries": true,
 "advancedQueryCapabilities": {
  "useStandardizedQueries": true,
  "supportsStatistics": false,
  "supportsOrderBy": false,
  "supportsDistinct": false,
  "supportsPagination": false
 },
 "spatialReference": {
  "wkid": 102749,
  "latestWkid": 2286
 }
}
