View In:
ArcGIS JavaScript
ArcGIS Online Map Viewer
ArcGIS Earth
Service Description: Light/HelenaSubStation
Name: Light/HelenaSubStation
Description:
Single Fused Map Cache: false
Extent:
XMin: 1630856.4840134762
YMin: 612902.3292469052
XMax: 1631194.1640285293
YMax: 613153.8386960207
Spatial Reference: 102749
(2286)
LatestVCSWkid(0)
Initial Extent:
XMin: 1630856.4840134762
YMin: 612902.3292469052
XMax: 1631194.1640285293
YMax: 613153.8386960207
Spatial Reference: 102749
(2286)
LatestVCSWkid(0)
Full Extent:
XMin: 1630856.4840134762
YMin: 612902.3292469052
XMax: 1631194.1640285293
YMax: 613153.8386960207
Spatial Reference: 102749
(2286)
LatestVCSWkid(0)
Pixel Size X: 0.3326896700030881
Pixel Size Y: 0.3371440336668749
Band Count: 3
Pixel Type: U8
RasterFunction Infos: {"rasterFunctionInfos": [{
"name": "None",
"description": "",
"help": ""
}]}
Mensuration Capabilities: Basic
Inspection Capabilities:
Has Histograms: true
Has Colormap: false
Has Multi Dimensions : false
Rendering Rule:
Min Scale: 0
Max Scale: 0
Copyright Text:
Service Data Type: esriImageServiceDataTypeRGB
Min Values: 0, 0, 0
Max Values: 255, 255, 255
Mean Values: 112.3031815000198, 111.3271424609411, 107.6416482873079
Standard Deviation Values: 47.873233129516166, 46.88913956602173, 48.45124951078449
Object ID Field:
Fields:
None
Default Mosaic Method: Center
Allowed Mosaic Methods:
SortField:
SortValue: null
Mosaic Operator: First
Default Compression Quality: 75
Default Resampling Method: Bilinear
Max Record Count: null
Max Image Height: 4100
Max Image Width: 15000
Max Download Image Count: null
Max Mosaic Image Count: null
Allow Raster Function: true
Allow Copy: true
Allow Analysis: true
Allow Compute TiePoints: false
Supports Statistics: false
Supports Advanced Queries: false
Use StandardizedQueries: true
Raster Type Infos:
Name: Raster Dataset
Description: Supports all ArcGIS Raster Datasets
Help:
Has Raster Attribute Table: false
Edit Fields Info: null
Ownership Based AccessControl For Rasters: null
Child Resources:
Info
Histograms
Statistics
Key Properties
Legend
Raster Function Infos
Supported Operations:
Export Image
Identify
Measure
Compute Histograms
Compute Statistics Histograms
Get Samples
Compute Class Statistics
Query Boundary
Compute Pixel Location
Compute Angles
Validate
Project